BEGIN:VCALENDAR
VERSION:2.0
PRODID:icalendar-ruby
CALSCALE:GREGORIAN
METHOD:PUBLISH
BEGIN:VEVENT
DTSTAMP:20260419T124432Z
UID:57-576562@eft.church
DTSTART:20260502T003000Z
DTEND:20260502T033000Z
CLASS:PUBLIC
CREATED:20260325T104820
DESCRIPTION:REGISTER FOR DINNER BELOW.  * The YSMM team inites you to ejoy
  an evening of fun as we embark on a journey through "A tour of Italy" and
  raise funds for our 2026 Mexico Mission Trip coming this Summer. July 25t
 h - Aug 1st
LAST-MODIFIED:20260325T104820
LOCATION:* Register Below 
SUMMARY:YSMM Banquet Fundraiser
URL;VALUE=URI:https://eft.church/events/ysmm-banquet-fundraiser/2026-05-01
ATTACH;FILENAME=26-YSMM-Banquet-Tour-of-Italy-4.png;FMTTYPE=image/png:https
 ://dq5pwpg1q8ru0.cloudfront.net/2026/03/25/17/45/01/4a859ca1-f102-448e-b27
 f-75ad9db3a440/26-YSMM-Banquet-Tour-of-Italy-4.png
END:VEVENT
END:VCALENDAR
